BEGIN:VCALENDAR
VERSION:2.0
PRODID:-//wp-events-plugin.com//7.2.2.1//EN
TZID:Europe/Paris
X-WR-TIMEZONE:Europe/Paris
BEGIN:VEVENT
UID:1017@tripotholdemclub.fr
DTSTART;TZID=Europe/Paris:20260523T100000
DTEND;TZID=Europe/Paris:20260523T100000
DTSTAMP:20260425T121943Z
URL:https://www.tripotholdemclub.fr/evenements/tripopen-short-and-deep-14/
SUMMARY:Trip'Open Short and Deep #14
DESCRIPTION:\nTRIP OPEN SHORT AND DEEP 14 ! \nTrip : Ca c’est nous ! la B
 ogota\, la Favela\, la Bengladesh\, la Bad Beat Trip… parce qu’au Trip
 ot on aime les mains qui vont vous faire voyager\nOpen : Parce que c’est
  gratuit et chez nous ca l’a toujours été\, et y a un Ticket W500 à g
 agner garanti !\nShort : On a fait tenir le tournoi sur 1 jour au lieu de 
 2 et en prime on kiff le short handed\nDeep : Structure 30k et 30min\, 6ha
 nded\, 54 joueurs\, y a de quoi jouer !\n14 : Parceque mine de rien ca fai
 t une paire d’année que ce tournoi existe et on en est pas peu fiers !\
 n\nIl vous manque des infos ?\nDate et horaires : Samedi 23 mai\, ouvertur
 e 9h30\, début 10h00\, fin estimée 2h\nPrize Pool : 1er = Ticket live W5
 00\, 2eme = Ticket live Fivebet 250\, 3eme = Ticket W50\, 4 au 11eme = tic
 kets W\n\nBuvette et restauration assurées sur place\nQuestions\, contact
  : tripotholdemclub@hotmail.com\n\nAnd have a nice TRIP ! 
CATEGORIES:Spéciaux Live,Tripot Live
LOCATION:Cercle Démocratique et Social du 1er\, 26 rue du bon pasteur\, Ly
 on\, 69001\, France
X-APPLE-STRUCTURED-LOCATION;VALUE=URI;X-ADDRESS=26 rue du bon pasteur\, Lyo
 n\, 69001\, France;X-APPLE-RADIUS=100;X-TITLE=Cercle Démocratique et Soci
 al du 1er:geo:0,0
END:VEVENT
BEGIN:VTIMEZONE
TZID:Europe/Paris
X-LIC-LOCATION:Europe/Paris
BEGIN:DAYLIGHT
DTSTART:20260329T030000
TZOFFSETFROM:+0100
TZOFFSETTO:+0200
TZNAME:CEST
END:DAYLIGHT
END:VTIMEZONE
END:VCALENDAR