BEGIN:VCALENDAR
VERSION:2.0
PRODID:-//wp-events-plugin.com//7.2.2.1//EN
TZID:Europe/Paris
X-WR-TIMEZONE:Europe/Paris
BEGIN:VEVENT
UID:685@tripotholdemclub.fr
DTSTART;TZID=Europe/Paris:20231029T100000
DTEND;TZID=Europe/Paris:20231029T100000
DTSTAMP:20230801T183412Z
URL:https://www.tripotholdemclub.fr/evenements/tournoi-de-coinche-3/
SUMMARY:Tournoi de coinche
DESCRIPTION:infos a venir
CATEGORIES:Vie associative
LOCATION:Cercle Démocratique et Social du 1er\, 26 rue du bon pasteur\, Ly
 on\, 69001\, France
X-APPLE-STRUCTURED-LOCATION;VALUE=URI;X-ADDRESS=26 rue du bon pasteur\, Lyo
 n\, 69001\, France;X-APPLE-RADIUS=100;X-TITLE=Cercle Démocratique et Soci
 al du 1er:geo:0,0
END:VEVENT
BEGIN:VTIMEZONE
TZID:Europe/Paris
X-LIC-LOCATION:Europe/Paris
BEGIN:STANDARD
DTSTART:20231029T020000
TZOFFSETFROM:+0200
TZOFFSETTO:+0100
TZNAME:CET
END:STANDARD
END:VTIMEZONE
END:VCALENDAR