BEGIN:VCALENDAR
VERSION:2.0
PRODID:-//wp-events-plugin.com//7.2.2.1//EN
TZID:Europe/Paris
X-WR-TIMEZONE:Europe/Paris
BEGIN:VEVENT
UID:543@tripotholdemclub.fr
DTSTART;TZID=Europe/Paris:20230610T100000
DTEND;TZID=Europe/Paris:20230610T100000
DTSTAMP:20230607T095011Z
URL:https://www.tripotholdemclub.fr/evenements/tosd-2023-day1a/
SUMMARY:TOSD 2023 Day1A
DESCRIPTION:TRIP'OPEN SHORT AND DEEP 2023\n\nVoila le printemps\, c’est l
 e retour des cigognes et des hirondelles migratrices qui survolent la rég
 ion.\nEt la migration de la bande de droles d’oiseaux qui vont faire leu
 r nid sur les tables du Tripot on en parle ?\n\nVos gueules les mouettes !
  Laissez moi causer du Trip’Open Short and Deep #11 !\n\nQuand ? : 10 e
 t 11 juin 2023\nday 1A samedi 10h (54 joueurs) pour les « early birds 
 »\nday 1B samedi 17h30 (54 joueurs) pour les oiseaux de nuit\nday 2 diman
 che pour les survivants\nOù ? : au Tripot 26 rue du Bon Pasteur 69001 Ly
 on\nCombien ? : gratuit pour tout joueur à jour de cotiz dans son club\n
 Comment ? : 6 handed\, 30k – 30min / buvette restauration sur place\nWh
 at the fuck ? ticket W500 à la win\, tickets online\, goodies
ATTACH;FMTTYPE=image/jpeg:https://www.tripotholdemclub.fr/wp-content/uploa
 ds/2023/05/TOSD2023.jpeg
CATEGORIES:Spéciaux Live,Tripot Live
LOCATION:Cercle Démocratique et Social du 1er\, 26 rue du bon pasteur\, Ly
 on\, 69001\, France
X-APPLE-STRUCTURED-LOCATION;VALUE=URI;X-ADDRESS=26 rue du bon pasteur\, Lyo
 n\, 69001\, France;X-APPLE-RADIUS=100;X-TITLE=Cercle Démocratique et Soci
 al du 1er:geo:0,0
END:VEVENT
BEGIN:VTIMEZONE
TZID:Europe/Paris
X-LIC-LOCATION:Europe/Paris
BEGIN:DAYLIGHT
DTSTART:20230326T030000
TZOFFSETFROM:+0100
TZOFFSETTO:+0200
TZNAME:CEST
END:DAYLIGHT
END:VTIMEZONE
END:VCALENDAR