BEGIN:VCALENDAR
VERSION:2.0
PRODID:-//wp-events-plugin.com//7.2.2.1//EN
TZID:Europe/Paris
X-WR-TIMEZONE:Europe/Paris
BEGIN:VEVENT
UID:374@tripotholdemclub.fr
DTSTART;TZID=Europe/Paris:20211128T100000
DTEND;TZID=Europe/Paris:20211128T100000
DTSTAMP:20211125T095543Z
URL:https://www.tripotholdemclub.fr/evenements/go-to-vegas-5/
SUMMARY:Go to Vegas #5
DESCRIPTION:Venez retrouver les tripoteurs Cercle d’Union Démocratique 
 et Sociale au 26 rue du Bon Pasteur 69001 Lyon (entrée sur la gauche du 
 batiment\, local en sous sol)\n\ninscriptions au tournoi via le bouton «
  s’inscrire » ci dessous pour tout titulaire d’un compte validé su
 r le forum\n\nTournoi réservé aux adhérents du club (adhésion annuelle
  et mensuelle possible sur place) dans la limite des places disponibles.\n
 \nOuverture des portes à 9h00 pour les TD\, 9h30 pour le public\nShuffle 
 up and deal à 10h\nlimite de retard autorisé : 11h40 (vos stacks seront 
 impactés selon le moment de votre arrivée)\n\nstructure 15 000 jetons \,
  20min \, 50/100\, 8 joueurs max par table\n\nToutes les infos sur le cham
 pionnat TGTV ici :\n\nhttp://www.tripotholdemclub.fr/forums/topic/06-10-19
 -a-29-03-20-tripot-go-to-vegas/\n\nComme vous le savez tous le COVID19 nou
 s contraint à adopter certaines règles afin d’eviter la transmission d
 u virus au sein de l’asso. Ces règles sont a retrouver ici : \n\nhttp:
 //www.tripotholdemclub.fr/forums/topic/reglement-covid-en-vigueur-au-cercl
 e/\n\npour tout renseignement contactez Fred : 06 75 23 58 99\n\nA bientot
ATTACH;FMTTYPE=image/jpeg:https://www.tripotholdemclub.fr/wp-content/uploa
 ds/2019/08/rOAD-TO-VEGAS-AFFICHE.jpg
CATEGORIES:Spéciaux Live,Tripot Live
LOCATION:Cercle Démocratique et Social du 1er\, 26 rue du bon pasteur\, Ly
 on\, 69001\, France
X-APPLE-STRUCTURED-LOCATION;VALUE=URI;X-ADDRESS=26 rue du bon pasteur\, Lyo
 n\, 69001\, France;X-APPLE-RADIUS=100;X-TITLE=Cercle Démocratique et Soci
 al du 1er:geo:0,0
END:VEVENT
BEGIN:VTIMEZONE
TZID:Europe/Paris
X-LIC-LOCATION:Europe/Paris
BEGIN:STANDARD
DTSTART:20211031T020000
TZOFFSETFROM:+0200
TZOFFSETTO:+0100
TZNAME:CET
END:STANDARD
END:VTIMEZONE
END:VCALENDAR